BEGIN:VCALENDAR
VERSION:2.0
PRODID:-//Visionary Arts Academy
CALSCALE:GREGORIAN
METHOD:PUBLISH
X-WR-CALNAME:Visionary Arts Academy
X-ORIGINAL-URL:https://visionaryarts.academy/events/in-the-studio-autumn-skye-morrison/
X-WR-CALDESC:In The Studio: Autumn Skye Morrison
BEGIN:VEVENT
DTSTART:20180110T180000
DTEND:20180110T200000
SUMMARY:In The Studio: Autumn Skye Morrison
DESCRIPTION:
LOCATION:
END:VEVENT
END:VCALENDAR
