BEGIN:VCALENDAR
VERSION:2.0
PRODID:-//Visionary Arts Academy
CALSCALE:GREGORIAN
METHOD:PUBLISH
X-WR-CALNAME:Visionary Arts Academy
X-ORIGINAL-URL:https://visionaryarts.academy/events/interview-artjam-with-dela/
X-WR-CALDESC:INTERVIEW &#038; ARTJAM with Dela (VIDEO)
BEGIN:VEVENT
DTSTART:20170504T200000
DTEND:20170504T220000
SUMMARY:INTERVIEW &#038; ARTJAM with Dela (VIDEO)
DESCRIPTION:
LOCATION:
END:VEVENT
END:VCALENDAR
