BEGIN:VCALENDAR
VERSION:2.0
PRODID:-//Visionary Arts Academy
CALSCALE:GREGORIAN
METHOD:PUBLISH
X-WR-CALNAME:Visionary Arts Academy
X-ORIGINAL-URL:https://visionaryarts.academy/events/interview-artjam-with-miles-toland/
X-WR-CALDESC:INTERVIEW &#038; ARTJAM with Miles Toland (VIDEO)
BEGIN:VEVENT
DTSTART:20170517T190000
DTEND:20170517T210000
SUMMARY:INTERVIEW &#038; ARTJAM with Miles Toland (VIDEO)
DESCRIPTION:
LOCATION:
END:VEVENT
END:VCALENDAR
