BEGIN:VCALENDAR
VERSION:2.0
PRODID:-//Visionary Arts Academy
CALSCALE:GREGORIAN
METHOD:PUBLISH
X-WR-CALNAME:Visionary Arts Academy
X-ORIGINAL-URL:https://visionaryarts.academy/events/interview-artjam-jennifer-michelle-long/
X-WR-CALDESC:INTERVIEW &#038; ARTJAM: Jennifer Michelle Long (VIDEO)
BEGIN:VEVENT
DTSTART:20170330T200000
DTEND:20170330T220000
SUMMARY:INTERVIEW &#038; ARTJAM: Jennifer Michelle Long (VIDEO)
DESCRIPTION:
LOCATION:
END:VEVENT
END:VCALENDAR
