BEGIN:VCALENDAR
VERSION:2.0
PRODID:-//Visionary Arts Academy
CALSCALE:GREGORIAN
METHOD:PUBLISH
X-WR-CALNAME:Visionary Arts Academy
X-ORIGINAL-URL:https://visionaryarts.academy/events/interview-artjam-justin-totemical/
X-WR-CALDESC:INTERVIEW &#038; ARTJAM: Justin Totemical (VIDEO)
BEGIN:VEVENT
DTSTART:20170322T200000
DTEND:20170322T220000
SUMMARY:INTERVIEW &#038; ARTJAM: Justin Totemical (VIDEO)
DESCRIPTION:
LOCATION:
END:VEVENT
END:VCALENDAR
